Workbook

Sheet Landing Page
B2: Please note: this spreadsheet uses hidden pages for data formatting.
B3: I apologise for the formatting weirdness, much of it is artifacts from the conversion from google sheets (where most of the formatting and data analysis was done) to .odf format.
B5: If you have any questions or comments, please email admin@twyford.hants.uk clearly stating your reason for contact, and you should be referred by the assistant clerk to a representative of the climate group.

Sheet Online Form Responses 1
A1: Timestamp | B1: Are you answering as an individual, on behalf of a household, or on behalf of a business? | C1: On a scale of 0-5, how much do you think Twyford should focus on addressing climate change and its impacts? | D1: What are your biggest concerns about the effects of climate change? (Select any/all that apply) | E1: What steps have you/your household/your business taken to reduce the impact of climate change? (Select any/all that apply) | F1: What are the things that hold you back from doing more? (Select any/all that apply) | G1: I'd potentially be interested in... (select any/all that apply) | H1: What do you think we could do as a village to have the greatest impact on the climate? | I1: We need a great name for our group - any ideas? | J1: If there's anything else you want to share with us, please add your comments here: | K1: How old are you?
A2: 46044.753 | B2: Individual or Household | C2: 5 | D2: The impact on my children and grandchildren, Loss of biodiversity, Extreme heat/wildfires, Higher bills (higher prices of food, water, energy, etc.), Economic/political instability, Impacts of climate change on poorer communities elsewhere in the world, Climate migration | E2: Nature friendly gardening (e.g. planting wildflowers, rewilding, using peat-free compost), Adopted a more climate-friendly diet (e.g. reduced meat consumption, buying local, buying food in season), Reduced my travel, Used lower carbon ways of travelling (e.g. walking, cycling, public transport), Invested in an electric/hybrid car, Reduced my energy use, Installed insulation, Reused or repaired items, Composted or recycled waste, Reduced water use (e.g. install water butts, shorter showers), Reduced heat risk (e.g. additional planting, shading around my property), Joined a climate or environmental group, Talked to friends and family about climate change or actions I've taken, Solar panels plus storage battery | F2: I've done as much as I can | G2: Information about what I can do (including talks/demonstrations), Joining others with similar interests so we can create action together, Opportunities to talk about my feelings about climate change, Practical tasks or projects | H2: Reduce traffic, plant more trees, hold veggie days in local pubs and cafes | K2: Over 65
A3: 46045.562 | B3: Individual or Household | C3: 5 | D3: The impact on my children and grandchildren, Loss of biodiversity, Floods and storms, Extreme heat/wildfires, Economic/political instability, Impacts of climate change on poorer communities elsewhere in the world | E3: Nature friendly gardening (e.g. planting wildflowers, rewilding, using peat-free compost), Adopted a more climate-friendly diet (e.g. reduced meat consumption, buying local, buying food in season), Reduced my travel, Used lower carbon ways of travelling (e.g. walking, cycling, public transport), Reduced my energy use, Hired or borrowed items instead of buying, Reused or repaired items, Composted or recycled waste, Reduced water use (e.g. install water butts, shorter showers), Reduced heat risk (e.g. additional planting, shading around my property), Taken political action (e.g. written to MP, taken part in campaigns or protests), Joined a climate or environmental group, Talked to friends and family about climate change or actions I've taken | F3: I don't have the money, I don't have the time | G3: Information about what I can do (including talks/demonstrations), Practical tasks or projects | H3: Reduce traffic: eg reduce car use by residents and traffic volume passing through the village. NB traffic was the biggest quality of life issue for residents in Neighbourhood Plan consultation. | I3: Sustain Twyford | K3: Over 65
A4: 46048.548 | B4: Individual | C4: 5 | D4: The impact on my children and grandchildren, Loss of biodiversity, Floods and storms, Water shortages, Extreme heat/wildfires, Higher bills (higher prices of food, water, energy, etc.), Economic/political instability, Impacts of climate change on poorer communities elsewhere in the world, Climate migration | E4: Nature friendly gardening (e.g. planting wildflowers, rewilding, using peat-free compost), Adopted a more climate-friendly diet (e.g. reduced meat consumption, buying local, buying food in season), Reduced my travel, Used lower carbon ways of travelling (e.g. walking, cycling, public transport), Installed insulation, Hired or borrowed items instead of buying, Reused or repaired items, Composted or recycled waste, Reduced water use (e.g. install water butts, shorter showers), Moved my money to sustainable banks or invested in sustainable funds, Taken political action (e.g. written to MP, taken part in campaigns or protests), Joined a climate or environmental group, Talked to friends and family about climate change or actions I've taken | F4: I’m doing as much as I can for now | G4: Information about what I can do (including talks/demonstrations), Joining others with similar interests so we can create action together, Opportunities to talk about my feelings about climate change, Practical tasks or projects, Sharing my skills and knowledge with others, Setting up locally run projects or campaigns | H4: Provide an hub for opportunities and signposting for people to come together as groups who all focus on different topics where local or global. Encourage everyone to lead or contribute according to their own interests and specialisms rather than a prescriptive one size fits all approach. We need to build a strong community to help us through the challenges associated with what’s being billed as the poly crisis. As well as community involvement, we really need bold and visible leadership from the Parish Council. | I4: Not my specialism but I like ideas that incorporate words such as: Twyford, Environment, Climate, Community, Adaption, Restoration, Resilience | K4: 45-54
A5: 46051.948 | B5: Household | C5: 5 | D5: The impact on my children and grandchildren, Loss of biodiversity, Floods and storms, Water shortages, Extreme heat/wildfires, Higher bills (higher prices of food, water, energy, etc.), Economic/political instability, Impacts of climate change on poorer communities elsewhere in the world, Climate migration, Negative impact on health of climate change | E5: Adopted a more climate-friendly diet (e.g. reduced meat consumption, buying local, buying food in season), Reduced my travel, Used lower carbon ways of travelling (e.g. walking, cycling, public transport), Invested in an electric/hybrid car, Reused or repaired items, Composted or recycled waste, Reduced water use (e.g. install water butts, shorter showers), Moved my money to sustainable banks or invested in sustainable funds, Taken political action (e.g. written to MP, taken part in campaigns or protests), Joined a climate or environmental group, Talked to friends and family about climate change or actions I've taken | F5: I don't have the time | G5: Information about what I can do (including talks/demonstrations), Joining others with similar interests so we can create action together, Opportunities to talk about my feelings about climate change, Practical tasks or projects, Sharing my skills and knowledge with others, Setting up locally run projects or campaigns | H5: 1) Reduce the speed limit through the village in a meaningful way (with speed cameras) to reduce the negative impact from air pollution on the climate and residents. 2) Campaign and work towards better infrastructure for safer cycling and walking routes and public transport. 3) Conservation of the green spaces around the village and the beautiful nature spaces we are so fortunate to be surrounded by. | I5: Twyford Action for Climate Change (TACC) | J5: I would be happy to volunteer time to the group if details of this are shared. | K5: 35-44
A6: 46051.976 | B6: Household | C6: 5 | D6: The impact on my children and grandchildren, Loss of biodiversity, Floods and storms, Water shortages, Extreme heat/wildfires, Economic/political instability, Impacts of climate change on poorer communities elsewhere in the world, Climate migration | E6: Adopted a more climate-friendly diet (e.g. reduced meat consumption, buying local, buying food in season), Used lower carbon ways of travelling (e.g. walking, cycling, public transport), Invested in an electric/hybrid car, Composted or recycled waste, Moved my money to sustainable banks or invested in sustainable funds, Taken political action (e.g. written to MP, taken part in campaigns or protests), Talked to friends and family about climate change or actions I've taken | F6: I don't have the money, I believe it's up to those in power to lead | G6: Joining others with similar interests so we can create action together, Practical tasks or projects, Sharing my skills and knowledge with others, Setting up locally run projects or campaigns | H6: Introduce safe cycling routes to Winchester, Shawford and Colden Common. Reduce the speed limit to 20mph through the village with speed cameras. | K6: 35-44
A7: 46052.529 | B7: Individual | C7: 5 | D7: The impact on my children and grandchildren, Loss of biodiversity, Floods and storms, Water shortages, Extreme heat/wildfires | E7: Nature friendly gardening (e.g. planting wildflowers, rewilding, using peat-free compost), Adopted a more climate-friendly diet (e.g. reduced meat consumption, buying local, buying food in season), Used lower carbon ways of travelling (e.g. walking, cycling, public transport), Hired or borrowed items instead of buying, Reused or repaired items, Composted or recycled waste, Reduced water use (e.g. install water butts, shorter showers) | F7: N/a | G7: Information about what I can do (including talks/demonstrations), Joining others with similar interests so we can create action together, Practical tasks or projects, Setting up locally run projects or campaigns | H7: Promote and encourage the little/easy changes that everyone can do. Rewilding of the available land. | K7: 45-54
A8: 46052.809 | B8: Household | C8: 5 | D8: The impact on my children and grandchildren, Loss of biodiversity, Floods and storms, Impacts of climate change on poorer communities elsewhere in the world, Climate migration | E8: Nature friendly gardening (e.g. planting wildflowers, rewilding, using peat-free compost), Adopted a more climate-friendly diet (e.g. reduced meat consumption, buying local, buying food in season), Reduced my travel, Invested in an electric/hybrid car, Reduced my energy use, Installed insulation, Installed a greener heating system, Reused or repaired items, Composted or recycled waste, Reduced water use (e.g. install water butts, shorter showers), Moved my money to sustainable banks or invested in sustainable funds, Installed significant solar generation | F8: Balancing demands of life with taking action | G8: Information about what I can do (including talks/demonstrations) | H8: Take care of our green spaces and promote locally grown non plastic covered or processed foods eg support Hampshire Market Garden | K8: 55-64
A9: 46061.695 | B9: Household | C9: 5 | D9: The impact on my children and grandchildren, Loss of biodiversity, Floods and storms, Water shortages, Extreme heat/wildfires, Economic/political instability, Impacts of climate change on poorer communities elsewhere in the world | E9: Nature friendly gardening (e.g. planting wildflowers, rewilding, using peat-free compost), Adopted a more climate-friendly diet (e.g. reduced meat consumption, buying local, buying food in season), Reduced my travel, Hired or borrowed items instead of buying, Reused or repaired items, Composted or recycled waste, Moved my money to sustainable banks or invested in sustainable funds, Taken political action (e.g. written to MP, taken part in campaigns or protests), Joined a climate or environmental group, Talked to friends and family about climate change or actions I've taken | F9: I don't have the money, I don't have the time, I believe it's up to those in power to lead | G9: Information about what I can do (including talks/demonstrations), Joining others with similar interests so we can create action together, Opportunities to talk about my feelings about climate change, Practical tasks or projects, Sharing my skills and knowledge with others, Setting up locally run projects or campaigns, Attending protests | H9: Educate, large (and small scale) biodiviersity efforts, sharing economy (repair, reuse, teach skills), monthly repair cafe. | J9: We will be messaging about getting inolved! | K9: 35-44
A10: 46063.705 | B10: Household | C10: 4 | D10: Loss of biodiversity, Floods and storms, Water shortages, Extreme heat/wildfires, Higher bills (higher prices of food, water, energy, etc.), Impacts of climate change on poorer communities elsewhere in the world | E10: Adopted a more climate-friendly diet (e.g. reduced meat consumption, buying local, buying food in season), Invested in an electric/hybrid car, Installed a greener heating system, Reused or repaired items, Composted or recycled waste, Reduced water use (e.g. install water butts, shorter showers) | F10: I don't have the money | G10: Information about what I can do (including talks/demonstrations) | K10: 45-54
A11: 46063.705 | B11: Individual | C11: 5 | D11: The impact on my children and grandchildren, Loss of biodiversity, Floods and storms, Water shortages, Climate migration | E11: Adopted a more climate-friendly diet (e.g. reduced meat consumption, buying local, buying food in season), Reduced my travel, Used lower carbon ways of travelling (e.g. walking, cycling, public transport), Reduced my energy use, Installed insulation, Composted or recycled waste | F11: I don't have the money, I don't have the time | G11: Setting up locally run projects or campaigns | H11: Lobby local government to improve bus access in Twyford, especially a direct and regular bus to Winchester station at peak commuting hours, synchronised with the London trains. Also, stop parish council grazing cows on common land! | K11: 45-54
A12: 46063.721 | B12: Individual | C12: 5 | D12: The impact on my children and grandchildren, Loss of biodiversity, Floods and storms, Water shortages, Extreme heat/wildfires, Higher bills (higher prices of food, water, energy, etc.), Economic/political instability, Impacts of climate change on poorer communities elsewhere in the world, Climate migration | E12: Nature friendly gardening (e.g. planting wildflowers, rewilding, using peat-free compost), Invested in an electric/hybrid car, Reduced my energy use, Installed a greener heating system, Composted or recycled waste, Reduced water use (e.g. install water butts, shorter showers) | F12: I don't know what I can do | G12: Practical tasks or projects | K12: 55-64
A13: 46064.251 | B13: Individual | C13: 1 | D13: Higher bills (higher prices of food, water, energy, etc.) | E13: Composted or recycled waste | F13: I've done as much as I can | G13: None of the above | K13: 45-54
A14: 46064.744 | B14: Household | C14: 5 | D14: The impact on my children and grandchildren, Loss of biodiversity, Floods and storms, Water shortages, Extreme heat/wildfires, Impacts of climate change on poorer communities elsewhere in the world | E14: Nature friendly gardening (e.g. planting wildflowers, rewilding, using peat-free compost), Adopted a more climate-friendly diet (e.g. reduced meat consumption, buying local, buying food in season), Used lower carbon ways of travelling (e.g. walking, cycling, public transport), Installed insulation, Composted or recycled waste, Reduced water use (e.g. install water butts, shorter showers) | F14: I don't have the money | G14: Information about what I can do (including talks/demonstrations) | K14: Over 65
A15: 46064.963 | B15: Individual | C15: 4 | D15: The impact on my children and grandchildren, Loss of biodiversity, Floods and storms, Water shortages, Extreme heat/wildfires, Economic/political instability, Impacts of climate change on poorer communities elsewhere in the world, Climate migration, Ground water flooding | E15: Adopted a more climate-friendly diet (e.g. reduced meat consumption, buying local, buying food in season), Installed a greener heating system, Reused or repaired items, Composted or recycled waste, Taken political action (e.g. written to MP, taken part in campaigns or protests), Haven't flown in a plane for about 14 years. | F15: I often take the easy way out! | G15: Information about what I can do (including talks/demonstrations) | H15: "20's Plenty" throughout the village (including main road) | K15: Over 65
A16: 46065.286 | B16: Individual | C16: 4 | D16: The impact on my children and grandchildren, Loss of biodiversity, Floods and storms, Water shortages, Extreme heat/wildfires, Economic/political instability, Impacts of climate change on poorer communities elsewhere in the world | E16: Nature friendly gardening (e.g. planting wildflowers, rewilding, using peat-free compost), Adopted a more climate-friendly diet (e.g. reduced meat consumption, buying local, buying food in season), Reduced my energy use, Reused or repaired items, Composted or recycled waste, Talked to friends and family about climate change or actions I've taken | F16: I don't know what I can do | G16: Practical tasks or projects | H16: Community projects | I16: Working on it! | J16: Well done - great this group has been set up | K16: 45-54
A17: 46065.478 | B17: Household | C17: 5 | D17: The impact on my children and grandchildren, Loss of biodiversity, Impacts of climate change on poorer communities elsewhere in the world | E17: Nature friendly gardening (e.g. planting wildflowers, rewilding, using peat-free compost), Adopted a more climate-friendly diet (e.g. reduced meat consumption, buying local, buying food in season), Reduced my travel, Used lower carbon ways of travelling (e.g. walking, cycling, public transport), Invested in an electric/hybrid car, Reduced my energy use, Reused or repaired items, Composted or recycled waste, Reduced water use (e.g. install water butts, shorter showers), Talked to friends and family about climate change or actions I've taken | F17: I don't know what I can do, I don't like thinking about climate change | G17: Information about what I can do (including talks/demonstrations), Practical tasks or projects | K17: 55-64
A18: 46065.507 | B18: Individual | C18: 5 | D18: Loss of biodiversity, Water shortages, Extreme heat/wildfires, Economic/political instability, Impacts of climate change on poorer communities elsewhere in the world | E18: Adopted a more climate-friendly diet (e.g. reduced meat consumption, buying local, buying food in season), Reduced my travel, Used lower carbon ways of travelling (e.g. walking, cycling, public transport), Installed insulation, Reused or repaired items, Composted or recycled waste, Moved my money to sustainable banks or invested in sustainable funds, Joined a climate or environmental group, Talked to friends and family about climate change or actions I've taken | F18: I feel stuck | G18: Information about what I can do (including talks/demonstrations), Joining others with similar interests so we can create action together, Practical tasks or projects, Sharing my skills and knowledge with others, Setting up locally run projects or campaigns, Attending protests | H18: create a proper cycle connection between Twyford and Winchester; focus on getting community involved in climate transition with small projects to build community cohesion on climate | K18: 16-24
A19: 46065.51 | B19: Individual | C19: 5 | D19: The impact on my children and grandchildren, Floods and storms, Extreme heat/wildfires, Higher bills (higher prices of food, water, energy, etc.), Economic/political instability, Impacts of climate change on poorer communities elsewhere in the world, Climate migration | E19: Nature friendly gardening (e.g. planting wildflowers, rewilding, using peat-free compost), Adopted a more climate-friendly diet (e.g. reduced meat consumption, buying local, buying food in season), Used lower carbon ways of travelling (e.g. walking, cycling, public transport), Reused or repaired items, Composted or recycled waste | F19: I believe it's up to those in power to lead | G19: Practical tasks or projects | H19: An on-line means to list items for reuse. I know there is FB market place, but there are people like me who do not have a FB account - my way to reduce energy use! | I19: Climate Action in Twyford (CAT) | K19: Over 65
A20: 46065.639 | B20: Individual | C20: 5 | D20: The impact on my children and grandchildren, Loss of biodiversity, Floods and storms, Water shortages, Extreme heat/wildfires, Higher bills (higher prices of food, water, energy, etc.), Impacts of climate change on poorer communities elsewhere in the world, People travelling by air and polution harming the environment! | E20: Nature friendly gardening (e.g. planting wildflowers, rewilding, using peat-free compost), Adopted a more climate-friendly diet (e.g. reduced meat consumption, buying local, buying food in season), Reduced my travel, Used lower carbon ways of travelling (e.g. walking, cycling, public transport), Installed insulation, Reused or repaired items, Composted or recycled waste, Taken political action (e.g. written to MP, taken part in campaigns or protests), Joined a climate or environmental group, Talked to friends and family about climate change or actions I've taken, Asking for popular bus route to be reinstated to reduce traffic in City. | F20: I don't have the money, I don't have the time, Talking to people about the choices they make. Looking at alternatives | G20: Information about what I can do (including talks/demonstrations), Practical tasks or projects, Sharing my skills and knowledge with others, Education on climate change for children and adults | H20: Limit travel and reduce pollution. Keep gardens and open spaces green. | J20: Joined up thinking about the environment. Taking care of green spaces. Fly tipping and litter | K20: Over 65
A21: 46066.414 | B21: Household | C21: 3 | D21: The impact on my children and grandchildren, Higher bills (higher prices of food, water, energy, etc.), Economic/political instability | E21: Hired or borrowed items instead of buying, Reused or repaired items | F21: I don't have the time, I believe it's up to those in power to lead | G21: Opportunities to talk about my feelings about climate change, Practical tasks or projects | K21: 35-44
A22: 46068.612 | B22: Individual | C22: 5 | D22: Loss of biodiversity, Floods and storms, Water shortages, Extreme heat/wildfires, Higher bills (higher prices of food, water, energy, etc.), Economic/political instability, Impacts of climate change on poorer communities elsewhere in the world | E22: Nature friendly gardening (e.g. planting wildflowers, rewilding, using peat-free compost), Adopted a more climate-friendly diet (e.g. reduced meat consumption, buying local, buying food in season), Reduced my travel, Used lower carbon ways of travelling (e.g. walking, cycling, public transport), Reduced my energy use, Installed a greener heating system, Hired or borrowed items instead of buying, Reused or repaired items, Composted or recycled waste, Reduced water use (e.g. install water butts, shorter showers), Moved my money to sustainable banks or invested in sustainable funds, Taken political action (e.g. written to MP, taken part in campaigns or protests), Joined a climate or environmental group, Talked to friends and family about climate change or actions I've taken | F22: I don't have the time | G22: Information about what I can do (including talks/demonstrations), Practical tasks or projects, Attending protests | H22: Reduce heavy goods traffic through the village, reduced the speed.limit and campaign for a better bus and train service. | K22: 45-54
A23: 46072.571 | B23: Individual | C23: 4 | D23: The impact on my children and grandchildren, Loss of biodiversity, Impacts of climate change on poorer communities elsewhere in the world | E23: Adopted a more climate-friendly diet (e.g. reduced meat consumption, buying local, buying food in season), Reduced my travel, Used lower carbon ways of travelling (e.g. walking, cycling, public transport), Reduced my energy use, Hired or borrowed items instead of buying, Composted or recycled waste, Reduced water use (e.g. install water butts, shorter showers), Talked to friends and family about climate change or actions I've taken | F23: I don't have the money | G23: Information about what I can do (including talks/demonstrations) | H23: Educating people on what they can do | K23: 55-64
A24: 46082.539 | B24: Individual | C24: 3 | D24: Loss of biodiversity, Higher bills (higher prices of food, water, energy, etc.), Impacts of climate change on poorer communities elsewhere in the world | E24: Nature friendly gardening (e.g. planting wildflowers, rewilding, using peat-free compost), Used lower carbon ways of travelling (e.g. walking, cycling, public transport), Reduced my energy use, Installed insulation, Hired or borrowed items instead of buying, Reused or repaired items, Composted or recycled waste, Reduced water use (e.g. install water butts, shorter showers) | F24: I don't know what I can do, I don't believe I can have an impact | G24: Information about what I can do (including talks/demonstrations), Practical tasks or projects, Setting up locally run projects or campaigns | H24: Take some ownership instead of saying 'why haven't they done something' ....whoever they might be ! | K24: 55-64
A25: 46082.55 | B25: Household | C25: 5 | D25: Floods and storms, Economic/political instability, Impacts of climate change on poorer communities elsewhere in the world | E25: Nature friendly gardening (e.g. planting wildflowers, rewilding, using peat-free compost), Adopted a more climate-friendly diet (e.g. reduced meat consumption, buying local, buying food in season), Used lower carbon ways of travelling (e.g. walking, cycling, public transport), Invested in an electric/hybrid car, Reduced my energy use, Installed insulation, Installed a greener heating system, Hired or borrowed items instead of buying, Reused or repaired items, Composted or recycled waste, Reduced flood risk by replacing solid surfaces with permeable surfaces, Reduced water use (e.g. install water butts, shorter showers), Taken political action (e.g. written to MP, taken part in campaigns or protests), Joined a climate or environmental group, Talked to friends and family about climate change or actions I've taken, Fitred an air source heat pump 5 years ago. | F25: I feel stuck, Climate change deniers in power. Trump terrifies me. Climate | G25: Practical tasks or projects | H25: Not sure | K25: 45-54
A26: 46082.589 | B26: Individual | C26: 4 | D26: Loss of biodiversity, Economic/political instability, Impacts of climate change on poorer communities elsewhere in the world | E26: Nature friendly gardening (e.g. planting wildflowers, rewilding, using peat-free compost), Used lower carbon ways of travelling (e.g. walking, cycling, public transport), Reused or repaired items, Taken political action (e.g. written to MP, taken part in campaigns or protests) | F26: I don't have the money | G26: None of the above | H26: Stop mowing the churchyard into oblivion. Once a year is best. | I26: Twyford EcoSystems Group | J26: Move away from climate to preserving biodiversity: stop using pesticides, herbicides and topical pesticides on pets. | K26: 45-54
A27: 46082.594 | B27: Household | C27: 5 | D27: The impact on my children and grandchildren, Loss of biodiversity, Floods and storms, Water shortages, Extreme heat/wildfires, Higher bills (higher prices of food, water, energy, etc.), Economic/political instability | E27: Nature friendly gardening (e.g. planting wildflowers, rewilding, using peat-free compost), Reused or repaired items, Composted or recycled waste, Talked to friends and family about climate change or actions I've taken | F27: I don't believe I can have an impact, I feel stuck | G27: Information about what I can do (including talks/demonstrations), Practical tasks or projects, Setting up locally run projects or campaigns | K27: 45-54
A28: 46082.61 | B28: Individual | C28: 3 | D28: The impact on my children and grandchildren, Loss of biodiversity, Floods and storms, Water shortages, Extreme heat/wildfires | E28: Nature friendly gardening (e.g. planting wildflowers, rewilding, using peat-free compost), Adopted a more climate-friendly diet (e.g. reduced meat consumption, buying local, buying food in season), Used lower carbon ways of travelling (e.g. walking, cycling, public transport), Invested in an electric/hybrid car, Reused or repaired items, Composted or recycled waste | F28: I don't believe I can have an impact | G28: Practical tasks or projects | H28: Continue to campaign for bus routes to be reinstated. Repair cafe. Group for borrowing/lending items only needed once or occasionally | I28: Twyford Climate Action | K28: 55-64
A29: 46082.853 | B29: Household | C29: 5 | D29: Loss of biodiversity, Floods and storms, Impacts of climate change on poorer communities elsewhere in the world, Climate migration | E29: Adopted a more climate-friendly diet (e.g. reduced meat consumption, buying local, buying food in season), Used lower carbon ways of travelling (e.g. walking, cycling, public transport), Reduced my energy use, Hired or borrowed items instead of buying, Reused or repaired items, Composted or recycled waste, Reduced water use (e.g. install water butts, shorter showers) | F29: I don't know what I can do, I don't have the money, I don't have the time, I believe it's up to those in power to lead | G29: Information about what I can do (including talks/demonstrations), Practical tasks or projects, Setting up locally run projects or campaigns | H29: Re wilding areas of the village and solar panels for energy | I29: Climate cohort | K29: 35-44
A30: 46082.863 | B30: Household | C30: 5 | D30: Loss of biodiversity, Floods and storms, Higher bills (higher prices of food, water, energy, etc.) | E30: Nature friendly gardening (e.g. planting wildflowers, rewilding, using peat-free compost), Adopted a more climate-friendly diet (e.g. reduced meat consumption, buying local, buying food in season), Hired or borrowed items instead of buying, Reused or repaired items, Composted or recycled waste, Reduced water use (e.g. install water butts, shorter showers) | F30: I don't have the time | G30: Joining others with similar interests so we can create action together, Opportunities to talk about my feelings about climate change | K30: 45-54
A31: 46084.359 | B31: Household | C31: 4 | D31: Loss of biodiversity, Water shortages, Extreme heat/wildfires | E31: Nature friendly gardening (e.g. planting wildflowers, rewilding, using peat-free compost), Adopted a more climate-friendly diet (e.g. reduced meat consumption, buying local, buying food in season), Reduced my travel, Reduced my energy use, Reused or repaired items, Composted or recycled waste, Reduced flood risk by replacing solid surfaces with permeable surfaces, Reduced water use (e.g. install water butts, shorter showers), Reduced heat risk (e.g. additional planting, shading around my property), Taken political action (e.g. written to MP, taken part in campaigns or protests), Joined a climate or environmental group, Talked to friends and family about climate change or actions I've taken, Work in conservation, dedicated my life to a more sustainable future | F31: I don't have the money, We are in 100 year old house that cannot have cavity insulation. Bad designed house | G31: Information about what I can do (including talks/demonstrations), Joining others with similar interests so we can create action together, Practical tasks or projects, Sharing my skills and knowledge with others, Attending protests | H31: Keep on what your doing, keeping development to a minimum. Encourage green spaces within village | J31: I have 30+ years in horticulture including conservation and ecology and qualified in garden design. I can help with practical solutions, advice and physical work. | K31: 45-54
A32: 46149.787 | B32: Household | C32: 5 | D32: The impact on my children and grandchildren, Loss of biodiversity, Floods and storms, Water shortages, Extreme heat/wildfires, Higher bills (higher prices of food, water, energy, etc.), Economic/political instability, Impacts of climate change on poorer communities elsewhere in the world, Climate migration | E32: Nature friendly gardening (e.g. planting wildflowers, rewilding, using peat-free compost), Adopted a more climate-friendly diet (e.g. reduced meat consumption, buying local, buying food in season), Reduced my travel, Used lower carbon ways of travelling (e.g. walking, cycling, public transport), Reused or repaired items, Composted or recycled waste, Reduced water use (e.g. install water butts, shorter showers), Reduced heat risk (e.g. additional planting, shading around my property), Taken political action (e.g. written to MP, taken part in campaigns or protests), Talked to friends and family about climate change or actions I've taken | F32: I don't have the money, I don't have the time, I don't believe I can have an impact, I believe it's up to those in power to lead | G32: Practical tasks or projects, Setting up locally run projects or campaigns | K32: 45-54
A33: 46149.787 | B33: Household | C33: 4 | D33: The impact on my children and grandchildren, Floods and storms, Higher bills (higher prices of food, water, energy, etc.), Economic/political instability | E33: Used lower carbon ways of travelling (e.g. walking, cycling, public transport), Hired or borrowed items instead of buying, Reused or repaired items, Composted or recycled waste | F33: I don't know what I can do, I don't have the money | G33: Information about what I can do (including talks/demonstrations), Practical tasks or projects | K33: 35-44
A34: 46149.789 | B34: Individual | C34: 5 | D34: Loss of biodiversity, Floods and storms, Water shortages, Economic/political instability, Impacts of climate change on poorer communities elsewhere in the world, Climate migration | E34: Nature friendly gardening (e.g. planting wildflowers, rewilding, using peat-free compost), Composted or recycled waste | F34: I don't believe I can have an impact, I don't like thinking about climate change, I feel stuck | G34: None of the above | H34: Create a system for sharing travel - look into using BlaBlaCar. It would obviously require a lot of people to make it effective . | K34: 55-64
A35: 46149.852 | B35: Household | C35: 4 | D35: The impact on my children and grandchildren | E35: Adopted a more climate-friendly diet (e.g. reduced meat consumption, buying local, buying food in season), Reduced my travel, Used lower carbon ways of travelling (e.g. walking, cycling, public transport), Invested in an electric/hybrid car, Reduced my energy use, Hired or borrowed items instead of buying, Reused or repaired items, Composted or recycled waste | F35: I don't know what I can do, I don't have the time | G35: Information about what I can do (including talks/demonstrations) | H35: Campaign for the bike lane | K35: 35-44
A36: 46149.862 | B36: Household | C36: 5 | D36: The impact on my children and grandchildren, Floods and storms, Water shortages, Extreme heat/wildfires, Higher bills (higher prices of food, water, energy, etc.), Economic/political instability | E36: Nature friendly gardening (e.g. planting wildflowers, rewilding, using peat-free compost), Adopted a more climate-friendly diet (e.g. reduced meat consumption, buying local, buying food in season), Reduced my travel, Used lower carbon ways of travelling (e.g. walking, cycling, public transport), Invested in an electric/hybrid car, Hired or borrowed items instead of buying, Reused or repaired items, Composted or recycled waste, Reduced water use (e.g. install water butts, shorter showers), Talked to friends and family about climate change or actions I've taken | F36: I don't have the time, I feel stuck | G36: Information about what I can do (including talks/demonstrations), Joining others with similar interests so we can create action together, Opportunities to talk about my feelings about climate change, Practical tasks or projects, Setting up locally run projects or campaigns | H36: Village projects…. We always pull together so would work | K36: 45-54
A37: 46149.905 | B37: Household | C37: 4 | D37: The impact on my children and grandchildren, Loss of biodiversity, Higher bills (higher prices of food, water, energy, etc.) | E37: Nature friendly gardening (e.g. planting wildflowers, rewilding, using peat-free compost), Used lower carbon ways of travelling (e.g. walking, cycling, public transport), Invested in an electric/hybrid car, Reduced my energy use, Reused or repaired items, Composted or recycled waste | F37: I don't have the money | G37: None of the above | K37: 45-54
A38: 46149.913 | B38: Household | C38: 4 | D38: The impact on my children and grandchildren, Loss of biodiversity, Water shortages, Higher bills (higher prices of food, water, energy, etc.) | E38: Nature friendly gardening (e.g. planting wildflowers, rewilding, using peat-free compost), Adopted a more climate-friendly diet (e.g. reduced meat consumption, buying local, buying food in season), Reduced my travel, Used lower carbon ways of travelling (e.g. walking, cycling, public transport), Invested in an electric/hybrid car, Reduced my energy use, Reused or repaired items, Composted or recycled waste, Reduced water use (e.g. install water butts, shorter showers) | F38: I don't have the money, I don't have the time | G38: None of the above | K38: 45-54
A39: 46149.913 | B39: Household | C39: 4 | D39: The impact on my children and grandchildren, Loss of biodiversity, Extreme heat/wildfires, Impacts of climate change on poorer communities elsewhere in the world | E39: Nature friendly gardening (e.g. planting wildflowers, rewilding, using peat-free compost), Adopted a more climate-friendly diet (e.g. reduced meat consumption, buying local, buying food in season), Used lower carbon ways of travelling (e.g. walking, cycling, public transport), Installed insulation, Installed a greener heating system, Hired or borrowed items instead of buying, Reused or repaired items, Composted or recycled waste, Reduced flood risk by replacing solid surfaces with permeable surfaces, Reduced water use (e.g. install water butts, shorter showers), Talked to friends and family about climate change or actions I've taken | F39: I don't know what I can do, I've done as much as I can | G39: Information about what I can do (including talks/demonstrations), Practical tasks or projects | H39: Traffic through the village, better public bus service to the village | J39: Thank you for getting people talking about this | K39: 45-54
A40: 46150.735 | B40: Household | C40: 5 | D40: Loss of biodiversity, Floods and storms, Water shortages, Extreme heat/wildfires, Higher bills (higher prices of food, water, energy, etc.), Economic/political instability | E40: Reduced my travel, Used lower carbon ways of travelling (e.g. walking, cycling, public transport), Reduced my energy use, Reused or repaired items, Composted or recycled waste | F40: I don't have the money, I don't have the time | G40: Joining others with similar interests so we can create action together, Practical tasks or projects, Setting up locally run projects or campaigns | H40: G | I40: G | J40: G | K40: 45-54
...

Sheet Paper Form Responses 1
A1: Individual | B1: 4 | C1: The impact on my children and grandchildren, Floods and storms, Water shortages | D1: Nature friendly gardening, Adopted a more climate-friendly diet, Reduced my travel, Reused or repaired items, Composted or recycled waste, Reduced water use, Talked to friends and family about climate change or actions I've taken | E1: I believe it's up to those in power to lead, I've done as much as I can | F1: None of the above | J1: Over 65
A2: Household | B2: 5 | C2: The impact on my children and grandchildren, Floods and storms, Water shortages | D2: Nature friendly gardening, Reduced my energy use, Installed insulation, Installed a greener heating system, Composted or recycled waste, Reduced water use, Reduced heat risk | E2: I don't believe I can have an impact, I believe it's up to those in power to lead, Energy & does it work | F2: None of the above | G2: ? | J2: Over 65
A3: Household | B3: 4 | C3: The impact on my children and grandchildren, Floods and storms, Water shortages, Economic/political instability, Impacts of climate change on poorer communities elsewhere in the world | D3: Nature friendly gardening, adopted a more climate-friendly diet, Reduced my travel, Reduced my energy use, Installed insulation, Hired or borrowed items instead of buying, Reused or repaired items, Composted or recycled waste, Reduced water use, Talked to my friends and family about climate change or actions I've taken | E3: I don't have the time, I believe it's up to those in power to lead | F3: Information about what I can do (including talks/demonstrations), Attending protests | J3: Over 65
A4: Individual | B4: 4 | C4: The impact on my children and grandchildren, Loss of biodiversity, Floods and storms, Water shortages, Extreme heat/wildfires, Higher bills, Economic/political instability, Impacts of climate change on poorer communities elsewhere in the world, Climate migration | D4: Nature friendly gardening, Reduced my travel, Reused or repaired items, Composted or recycled waste, Reduced water use, Moved my money to sustainable banks or invested in sustainable funds, Talked to friends and family about climate change | E4: I believe it's up to those in power to lead | F4: Information about what I can do, Practical tasks or projects, Sharing my skills and knowledge with others | G4: We have two schools in the village where many children are driven to The worst offender is Twyford Prep. The sight of dozens of 4x4 vehicles is nausiating. The PC could ask the school if they have a green initiative to reduce vehicle numbers. Do they have a plan to introduce solar panels, such a policy should be on their web site. The primary school does have green initiatives, could they be helped more re transport? | J4: Over 65
A5: Individual | B5: 5 | C5: The impact on my children and grandchildren, Loss of biodiversity, Floods and storms, Water shortages, Extreme heat/wildfires | D5: Nature friendly gardening, Adopted a more climate-friendly diet, Reduced my travel, Reduced my energy use, Installed insulation, Reused or repaired items, Composted or recycled waste, Reduced water use, Reduced heat risk, Taken political action, Joined a climate or environmental group, Talked to friends and family about climate change or the actions I've taken | E5: I feel stuck | F5: Information about what I can do, Joining others with similar interest so we can create action together, Opportunities to talk about my feelings about climate change, Practical tasks or projects, Attending protests | G5: Reuse plastic bottles & refill at village shop Use the bus for travel into Winchester or Southampton. (& Eastleigh???) Educate our schoolchildren on environmental issues alongside clubs and uniformed organizations | H5: Twyford Action Group (TAG) | I5: Am a member of Winchester Action on Climate Crisis. They have really good ideas and are very active. Could approach them for advice & look at their website for ideas. Action on Carbon in Twyford produced a leaflet on what we can do to reduce Twyfords household carbon footprint. See att. copy. [PAPER COPY PROVIDED] Local villages have been advertising days when everyone has a clear out of good items no longer needed - put out in front of house and have a "Free For All" day | J5: Over 65
A6: Individual | B6: 5 | C6: The impact on my children and grandchildren, Loss of biodiversity, Floods and storms, Water shortages, Extreme heat/wildfires, Higher bills | D6: Nature friendly gardening, Used lower carbon ways of travelling, Installed insulation, Hired or borrowed items instead of buying, Reused or repaired items, Composted or recycled waste | E6: I don't have the money | F6: Practical tasks or projects | J6: 55-64
A7: Household | B7: 5 | C7: The impact on my children and grandchildren, Loss of biodiversity, Floods and storms, Water shortages, Extreme heat/wildfires, Higher bills, Economic/political instability, Impacts of climate change on poorer communities elsewhere in the world, Climate migration | D7: Nature friendly gardening, Adopted a more climate-friendly diet, Reduced my travel, Used lower carbon ways of travelling, Reduced my energy use, Installed insulation, Reused or repaired items, Composted or recycled waste, Reduced water use, Taken political action, Joined a climate or environmental group, Talked to friends and family about climate change | E7: I don't know what I can do | F7: Practical tasks or projects | G7: As an affluent area I could imagine reducing food waste might have the biggest impact | H7: The Future of Twyford | J7: 45-54
A8: Individual | B8: 4 | C8: The impact on my children and grandchildren, Loss of biodiversity, Floods and storms, Water shortages, Extreme heat/wildfires, Economic/political instability, Impacts of climate change on poorer communities elsewhere in the world, Climate migration | D8: Nature friendly gardening, Adopted a more climate-friendly diet, Reduced my travel, Used lower carbon ways of travelling, Reduced my energy use, Installed insulation, Reused or repaired items, Composted or recycled waste, Reduced water use, Reduced heat risk, Taken political action, Joined a climate or environmental group, Talked to friends and family about climate change or actions I've taken, Other: WE GAVE UP FLYING 23 YEARS AGO | E8: Other: WE'RE STILL TRYING. HELPED START A COMMUNITY FARM | F8: Other: ALREADY INVOLVED WITH LOW CARBON, LOCAL FARMING | G8: Create a group to grow local fruit & veg. Rent or buy a piece of land and grow sustainable, seasonal local food. | H8: Twyford Community Farm | J8: Over 65
A9: Household | B9: 5 | C9: The impact on my children and grandchildren, Loss of biodiversity, Floods and storms, Water shortages, Extreme heat/wildfires, Higher bills, Economic/political instability, Impacts of climate change on poorer communities elsewhere in the world, Climate migration | D9: Nature friendly gardening, Adopted a more climate-friendly diet, Reduced my travel, Reduced my energy use, Installed insulation, Hired or borrowed items instead of buying, Reused or repaired items, Composted or recycled waste, Reduced water use, Taken political action, Talked to friends and family | E9: Other: I DON'T KNOW WHAT ELSE I CAN DO | F9: Information about what I can do, Practical tasks or projects, Sharing my skills and knowledge with others | J9: Over 65
A10: Individual | B10: 3 | C10: Loss of biodiversity, Extreme heat/wildfires | D10: Nature friendly gardening, Reduced my energy use, Installed insulation, Reused or repaired items, Composted or recycled waste, Reduced water use, Reduced heat risk | E10: I don't have the time | F10: None of the above | J10: Prefer not to answer
A11: Individual | B11: 5 | C11: The impact on my children and grandchildren, Loss of biodiversity, Floods and storms, Higher bills, Economic/political instability, Impacts of climate change on poorer communities elsewhere in the world, Climate migration | D11: Nature friendly gardening, Invested in an electric/hybrid car, Reduced my energy use, Installed insulation, Hired or borrowed items instead of buying, Reused or repaired items, Composted or recycled waste, Reduced water use, Taken political action | E11: Other: I DON'T KNOW WHAT ELSE I CAN DO | F11: Information about what I can do, Attending protests | J11: Prefer not to answer
A12: Individual | B12: 5 | C12: The impact on my children and grandchildren, Loss of biodiversity, Economic/political instability, Impacts of climate change on poorer communities elsewhere in the world | D12: Nature friendly gardening, Reduced my travel, Reduced my energy use, Reused or repaired items, Composted or recycled waste, Reduced water use | E12: I believe it's up to those in power to lead | F12: None of the above | J12: Over 65
A13: Household | B13: 5 | C13: The impact on my children and grandchildren, Loss of biodiversity, Floods and storms, Water shortages, Extreme heat/wildfires, Higher bills, Economic/political instability, Impacts of climate change on poorer communities elsewhere in the world, Climate migration | D13: Adopted a more climate-friendly diet, Reused or repaired items, Composted or recycled waste, Reduced water use, Joined a climate or environmental group, Talked to friends and family about climate change, Other: WOEFULLY LITTLE! MUCH SCOPE TO IMPROVE, CLEARLY. | E13: Other: LACK OF SUPPORT FROM THE FAMILY! | F13: Information about what I can do, Joining others with similar interest so we can create action together, Sharing my skills and knowledge with others | G13: More recycling facilities. Community veg. allotment. Regular repair cafe/event Clothes swaps/mending Skills swaps | J13: 55-64
A14: Individual | B14: 4 | C14: The impact on my children and grandchildren, Loss of biodiversity, Floods and storms, Extreme heat/wildfires, Economic/political instability | D14: Nature friendly gardening, Adopted a more climate-friendly diet, Used lower carbon ways of travelling, Composted or recycled waste, Reduced water use | E14: N/A | F14: N/A | J14: Over 65
A15: Household | B15: 4 | C15: The impact on my children and grandchildren, Loss of biodiversity, Extreme heat/wildfires, Higher bills, Economic/political instability | D15: Nature friendly gardening, Adopted a more climate-friendly diet, Invested in an electric/hybrid car, Hired or borrowed items instead of buying, Reused or repaired items, Composted or recycled waste, Reduced water use | E15: I don't have the money, I don't have the time | F15: Information about what I can do, Practical tasks or projects | G15: Advocate for better bus transport and bike paths. Plant more fruit trees, vegetables for community. | H15: Action green | J15: 35-44
A16: Individual | B16: 5 | C16: Loss of biodiversity, Floods and storms, Water shortages, Extreme heat/wildfires, Higher bills, Economic/political instability, Impacts of climate change on poorer communities elsewhere in the world, Climate migration | D16: N/A | E16: N/A | F16: N/A | G16: Improve ease for cycling, particularly into Winchester. Good recycling facilities. Give advice to people about what they can in their own houses + gardens. Repair cafe. Discourate large lorries. Provide information about food miles. | J16: Over 65
A17: Household | B17: 4 | C17: The impact on my children and grandchildren, Loss of biodiversity, Floods and storms, Impacts of climate change on poorer communities elsewhere in the world | D17: Nature friendly gardening, Adopted a more climate friendly diet, Reduced my travel, Used lower carbon ways of travelling, Reduced my energy use, Installed insulation, Composted or recycled waste, Reduced water use | E17: Other: I DO WHAT I CAN BUT MORE NEEDS TO BE DONE BY COMPANIES I.E. LESS PLASTIC CONTAINERS | F17: Attending protests | G17: Use available land to plant native trees/plants to encourage wildlife locally. | J17: 55-64
A18: Household | B18: 3 | C18: The impact on my children and grandchildren, Loss of biodiversity, Floods and storms, Water shortages, Extreme heat/wildfires, Higher bills, Impacts of climate change on poorer communities elsewhere in the world | D18: Nature friendly gardening, Reduced my energy use, Installed insulation, Composted or recycled waste, Reduced water use | E18: I don't have the money, I don't believe I can have an impact | F18: Information about what I can do, Practical tasks or projects | G18: Village solar panel scheme (bulk order for those that need them) | J18: 15 or younger, 35-44
A19: Household | B19: 4 | C19: The impact on my childrenn and grandchildren, Loss of biodiversity, Floods and storms, Water shortages, Extreme heat/wildfires, Higher bills, Economic/political instability, Impacts of climate change on poorer communities elsewhere in the world, Climate migration | D19: Nature friendly gardening, Adopted a more climate-friendly diet, Reduced my travel, Used lower carbon ways of travelling, Installed insulation, Reused or repaired items, Composted or recycled waste, Reduced flood risk by replacing solid surfaces with permeable surfaces, Reduced water use | E19: I believe it's up to those in power to lead, I've done as much as I can | F19: Information about what I can do (including talks/demonstrations) | G19: Educate | J19: Over 65
A20: Individual | B20: 4 | C20: Loss of biodiversity, Floods and storms, Extreme heat/wildfires | D20: Reduced my travel, Reduced my energy use, Composted or recycled waste, Joined a climate or environmental group | E20: I don't have the money, I don't have the time | F20: Information about what I can do | I20: Think the world needs to go green in ways that ordinary people can afford. Also important to green normal activities like going on holiday rather than expect massive behavioural change. Thanks for asking. David | J20: Prefer not to answer
A21: Individual | B21: 3 | C21: Loss of biodiversity, Floods and storms, Water shortages, Higher bills, Economic/political instability, Climate migration | D21: Reduced my travel, Used lower carbon ways of travelling, Invested in an electric/hybrid car, Composted or recycled waste | E21: I don't know what I can do, I don't have the time, I feel stuck | F21: Information about what I can do, Joining others with similar interests so we can create action together, Sharing my skills and knowledge with others | G21: Talk about small achievable changes which are to do w/daily routine. Include ppl from all walks of life + how small groups can come together. I.e. A communal compost? | H21: Twyford Environmental Association? Twyford Environmental Action? | I21: DATA COMMENT: on question two respondent answered 3.5. This answer could not be represented, so has been rounded down to 3 | J21: Prefer not to answer
A22: Household | B22: 5 | C22: The impact on my children and grandchildren, Loss of biodiversity, Floods and storms, Water shortages, Extreme heat/wildfires, Higher bills, Economic/political instability, Impacts of climate change on poorer communities elsewhere in the world, Other: PEOPLE NOT MAKING ANY EFFORT TO REDUCE FLYING, WORLD-TRAVEL USE OF VEHICLES. NOT KEEPING GRASS GARDENS, NOT PERMITTING DRAINAGE. CONCRETE OVER EVERYTHING. | D22: Nature friendly gardening, adopted a more climat-friendly diet, Reduced my travel, used lower carbon ways of travelling, Installed insulation, Reused or repaired items, Composted or recycled waste, Reduced flood risk by replacing solid surfaces with permeable surfaces, Reduced water use, Reduced heat risk, Taken political action, Talked to family and friends about climate change or actions I've taken | E22: I don't have the money, I don't have the time, Other: HEALTH PROBLEMS - WALKING, BLOOD PRESSURE, NEEDING TO HAVE ACCESS TO WC. | F22: Opportunities to talk about my feeligns about climate change, Sharing my skills and knowledge with others, Setting up locally run projects or campaigns, Other: LOOKING AFTER THE ENVIRONMENT. ATTENDING MEETINGS ENCOURAGING EDUCATION | G22: Think carefully about what you do, recycle repair, help other people. Plant pollen encourage bees. | J22: Over 65
A23: Household | B23: 3 | C23: Higher bills | D23: Nature friendly gardening, Adopted a more climate-friendly diet, Reused or repaired items, Reduced water use | E23: I've done as much as I can | F23: None of the above | J23: 35-44
A24: Individual | B24: 4 | C24: The impact on my children and grandchildren, Floods and storms, Water shortages, Extreme heat/wildfires, Impacts of climate change on poorer communities elsewhere in the world | D24: Adopted a more climate-friendly diet, used lower carbon ways of travelling, Reduced my energy use, Reused or repaired items, Reduced water use | E24: I've done as much as I can | F24: None of the above | G24: Use public transport | J24: Over 65
A25: Individual | B25: 3 | C25: The impact on my children and grandchildren, Water shortages, Economic/political instability | D25: Nature friendly gardening, Reused or repaired items, Composted or recycled waste, Reduced water use, Talked to friends and family about climate change or actions I've taken, Other: | E25: I've done as much as I can | F25: Joining others with similar interests so we can create action together, Setting up locally run projects or campaigns | G25: Better parking near the shop. | I25: DATA COMMENT: respondent answered question three with concern over loss of biodiversity and economic/political instability, but emphasised that these concerns were to a lesser degree than the 3 primary concerns | J25: Over 65
A26: Household | B26: 3 | C26: Floods and storms, Water shortages, Extreme heat/wildfires | D26: Nature friendly gardening, Adopted a more climate-friendly diet, Reduced my travel, used lower carbon ways of travelling, Reused or repaired items, Composted or recycled waste, Reduced water use | E26: I believe it's up to those in power to lead, Other: WE DO AS MUCH AS WE CAN | F26: None of the above, Other: WE JUST DO OUR BIT | G26: - slow traffic - cut out unecessary travel & printing (ie canvassing!!) - improve bus service - improve/provide direct milk route [DATA COMMENT: best interpretation of letters] | J26: Over 65
A27: Household | B27: 5 | C27: The impact on my children and grandchildren, Loss of biodiversity, Floods and storms, Water shortages, Extreme heat/wildfires, Higher bills, Impacts of climate change on poorer communities elsewhere in the world, climate migration | D27: Nature friendly gardening, Adopted a more climate-friendly diet, Reduced my energy use, Reused or repaired items, Composted or recycled waste, Reduced water use, Joined a climate or environmental group, Talked to friends and family about climate change or actions I've taken | E27: I don't have the money, I don't have the time, I believe it's up to those in power to lead, I've done as much as I can | F27: None of the above | G27: Reduce traffic [UNCLEAR] village introduce 20mph speed limit [UNCLEAR] village Encourage biodiversity. Water re-use. Tree planting. | H27: Twyford Future Climate Group (TFCG) | J27: Over 65
