BEGIN:VCALENDAR
VERSION:2.0
PRODID:-//Twyford Parish Council//Meeting Calendar//EN
CALSCALE:GREGORIAN
METHOD:PUBLISH
BEGIN:VEVENT
UID:70967-20251113@twyfordhants-pc.gov.uk
DTSTAMP:20260422T104531Z
DTSTART;VALUE=DATE:20251113
DTEND;VALUE=DATE:20251114
SUMMARY:Recreation Committee Meeting &#8211\\; 13 November 2025
DESCRIPTION:Recreation Meeting\nView details: https://twyfordhants-pc.gov.uk/meetings/recreation-committee-meeting-13-november-2025/
URL:https://twyfordhants-pc.gov.uk/meetings/recreation-committee-meeting-13-november-2025/
END:VEVENT
END:VCALENDAR
