BEGIN:VCALENDAR
VERSION:2.0
PRODID:-//Twyford Parish Council//Meeting Calendar//EN
CALSCALE:GREGORIAN
METHOD:PUBLISH
BEGIN:VEVENT
UID:70964-20250213@twyfordhants-pc.gov.uk
DTSTAMP:20260424T142259Z
DTSTART;VALUE=DATE:20250213
DTEND;VALUE=DATE:20250214
SUMMARY:Recreation Committee Meeting &#8211\\; 13 February 2025
DESCRIPTION:Recreation Meeting\nView details: https://twyfordhants-pc.gov.uk/meetings/recreation-committee-meeting-13-february-2025/
URL:https://twyfordhants-pc.gov.uk/meetings/recreation-committee-meeting-13-february-2025/
END:VEVENT
END:VCALENDAR
