BEGIN:VCALENDAR
VERSION:2.0
PRODID:-//Twyford Parish Council//Meeting Calendar//EN
CALSCALE:GREGORIAN
METHOD:PUBLISH
BEGIN:VEVENT
UID:70963-20260507@twyfordhants-pc.gov.uk
DTSTAMP:20260420T034233Z
DTSTART;VALUE=DATE:20260507
DTEND;VALUE=DATE:20260508
SUMMARY:Finance Committee Meeting – 7 May 2026
DESCRIPTION:Finance Meeting\nView details: https://twyfordhants-pc.gov.uk/meetings/finance-committee-meeting-7-may-2026/
URL:https://twyfordhants-pc.gov.uk/meetings/finance-committee-meeting-7-may-2026/
END:VEVENT
END:VCALENDAR
