BEGIN:VCALENDAR
VERSION:2.0
PRODID:-//Twyford Parish Council//Meeting Calendar//EN
CALSCALE:GREGORIAN
METHOD:PUBLISH
BEGIN:VEVENT
UID:70675-20241114@twyfordhants-pc.gov.uk
DTSTAMP:20260424T155251Z
DTSTART;VALUE=DATE:20241114
DTEND;VALUE=DATE:20241115
SUMMARY:Recreation Committee Meeting &#8211\\; 14 November 2024
DESCRIPTION:Recreation Meeting\nView details: https://twyfordhants-pc.gov.uk/meetings/recreation-committee-meeting-14-november-2024/
URL:https://twyfordhants-pc.gov.uk/meetings/recreation-committee-meeting-14-november-2024/
END:VEVENT
END:VCALENDAR
