BEGIN:VCALENDAR
VERSION:2.0
PRODID:-//Twyford Parish Council//Meeting Calendar//EN
CALSCALE:GREGORIAN
METHOD:PUBLISH
BEGIN:VEVENT
UID:70578-20240201@twyfordhants-pc.gov.uk
DTSTAMP:20260422T090822Z
DTSTART;VALUE=DATE:20240201
DTEND;VALUE=DATE:20240202
SUMMARY:Planning Committee Meeting &#8211\\; 1 February 2024
DESCRIPTION:Planning Meeting\nView details: https://twyfordhants-pc.gov.uk/meetings/planning-committee-meeting-1-february-2024/
URL:https://twyfordhants-pc.gov.uk/meetings/planning-committee-meeting-1-february-2024/
END:VEVENT
END:VCALENDAR
